Workbook
Name _200_SG_140367_034: Signalling!$A$39

Sheet Active Waivers Library
A1: Engineering Active Waivers Library (Internal only)
A2: ACTIVE WAIVERS

Sheet Signalling
A1: Engineering Waiver Approval Register Engineering Procedure EGP-02-01
A2: Signalling
A3: Waiver No. (EWAF) & File Link | B3: Status | C3: Start Date | D3: Expiry Date | E3: Close Out Date | F3: ARTC Corridor | G3: Line / Location | H3: Relevant Standard | I3: Clause or Section | J3: Waiver Description | K3: Originator (& company if not ARTC) | L3: Approval Date | M3: Closed Out By
A4: SW026 | B4: Completed | C4: 37552 | D4: N/A - Permanent | E4: 45987 | F4: Hunter Valley | H4: SMP30 | I4: 1.2 | J4: Widening of point lock slide notch to allow lock to be caorsely adjusted for plunger to enter lock | K4: John Gifford | M4: Melanie Mackie
A5: SNW05001JG | B5: Closed | C5: 38359 | D5: 38373 | E5: 38989 | F5: NSW North Coast | H5: SMP23 | J5: Resistance for BX cable insulation | K5: John Gifford | M5: Gustavo Aguilar
A6: 300/SG/121005/001 | B6: Completed | C6: 38637 | D6: N/A - Permanent | E6: 45987 | F6: NSW North Coast, North West and Hunter Valley | H6: SMP36 SMP45 | I6: 1 2.d | J6: Increase the time between the inspection of active level crossing inspection installations, by signal engineers, by a factor of 2 from SMP 36 Section 1, page 7 and SMP 45 Section 2 (d). Waiver required until Standards are updated. | K6: John Gifford | L6: 38681 | M6: Melanie Mackie
A7: 150/SG/010206/002 | B7: Not Required
A8: 900/SG/310306/003 | B8: Not Required
A9: 900/SG/310306/003 | B9: Not Required
A10: 500/SG/170506/005 | B10: Active | C10: 38854 | D10: TBA - to be corrected at next change out of the GIJs | E10: TBA | F10: NSW West | H10: SDS17 | I10: 17.3 | J10: To permit insulated rail joints to be up to 5m (+/- 1m) past main line indicator and trailing point indicator for Kinalung loop extension (1064.566km to 1066.602km) | K10: Patrick Gray | L10: 38859 | M10: TBA
A11: 500/SG/010606/006 | B11: Closed | C11: 38869 | D11: 38905 | E11: 39248 | F11: NSW West | G11: Kinalung | J11: VPI power supply common connected to earth. Single powers supply configuration only and must have 400K to earth. ELD to be operational and not fault. All cable and wiring insulation to be recently tested and to standard. | K11: Lionel Portela (United Group) | L11: 38870 | M11: Trevor Moore 15/06/2007
A12: 800/SG/060606/007 | B12: Closed | C12: 38874 | D12: TBA - pending revision of Standard | E12: 39415 | F12: NSW | H12: SMP33 | I12: 2.m | J12: To allow battery cupboard to be locked only and not sealed as required in the Standard SMP 33, Clause 2 (m). | K12: Bob Taylor | L12: 38874 | M12: Trevor Moore
A13: 400/SG/100706/008 | B13: Completed | C13: 39814 | D13: N/A - Permanent | E13: 45987 | F13: NSW North West | G13: Werris Creek | H13: SDS06 | I13: 6.4 | J13: Permit installation of flat sign to be placed on sleeper in lieu of clearance posts as per SDS 06 clause 6.4 as per attached photographs. Approval Conditions: Proposed controls to be implemented. Waiver to apply for Werris Creek Yard only. | K13: Kandiah Nithiyananthan | L13: 39031 | M13: Melanie Mackie
A14: 500/SG/240706/009 | B14: Closed | C14: 38922 | D14: TBA - pending type approval | E14: 39052 | F14: NSW West | G14: Matakana | J14: Usage of GCP 4000 Level Crossing Predictor. Evaluation complete and awaiting submission to Safety Committee. GCP3000 already has extensive use in ARTC. | K14: Trevor Moore | L14: 38922 | M14: John Cowie 01/12/2006
A15: 200/SG/180806/010 | B15: Completed | C15: 38952 | D15: N/A - Permanent | E15: 45987 | F15: Hunter Valley | H15: SCP04, SPS02 | J15: To allow for a Transient Control filter/clamp rated at 10A for a 24V AC/DC supply (part number TC-10A 24) to be used to provide surge protection for the Kingfisher RTU installation at Maitland Signal Box. Waiver required pending formal equipment approval. | K15: Javier Gonzalez, US&S | L15: 38952 | M15: Melanie Mackie
A16: 200/SG/210806/011 | B16: Closed | C16: 39320 | D16: 39051 | E16: 39162 | F16: Hunter Valley | G16: Sandgate | H16: BDS12 | J16: To allow M106.1 Down Main signal at 170.807km and M106.7 Down Main Signal at 171.649km to stand within the structure gauge per attached diagrams giving distances to rail. Controls: 50kph speed and reduced background on signals. | K16: Kevin Hure | L16: 38950 | M16: Trevor Moore
A17: 200/SG/230806/012 | B17: Closed | C17: 38952 | D17: 40543 | E17: 40499 | F17: Hunter Valley | G17: Sandgate | H17: SCP14 | J17: To allow for the use of OSD1250 optical fibre modems on the Sandgate Grade Separation. Temporary waiver while the equipment passes through the type approval process. | K17: John Aitken, US&S | L17: 38954 | M17: John Furness
A18: 100/SG/180906/013 | B18: Completed | C18: 39234 | D18: N/A - Permanent | E18: 45987 | F18: Western Jurisdiction | G18: Dry Creek to Outer Harbour | H18: SC 03 01 | I18: 3.3 | J18: SC 03 01 Clause 3.3 - 7 x active level crossings - Birkenhead to Pelican Point (16 - 22.0km) - Allow only one gong per level crossing due to minimal pedestrian movements and closeness of residences on one side. This is result of stakeholder and community consultation. | K18: Matt Hart | L18: 38978 | M18: Melanie Mackie
A19: 400/SG/200906/014 | B19: Closed | C19: 38980 | D19: 42774 | E19: N/A | F19: NSW North West | G19: North - Binnaway to The Gap and Binnaway to Merrygoen | H19: SDS19 | I19: 19.1 | J19: Receptacle Key has been used for release of Annett locks on ground frames. Due to stolen OTRS and key propose to change to Operator Key and lock in lieu of Annett key and lock. Location boards and Manual Point Indicators (MPI) are also installed | K19: Jason Leonard | L19: 26/09/2006 issued 07/11/06 Extended 11/12/2006 | M19: Robert Rath
A20: 300/SG/210906/015 | B20: Closed | C20: 39114 | D20: 39232 | E20: 39247 | F20: NSW North Coast | H20: SC 09 01 | I20: 6.11 | J20: SC 09 01 Clause 6.11 - To enable diversion of signalling line route for civil works at Nammoona approval is given to share the 50mm UPVC conduit carrying the optic fibre for Casino - Acacia Ridge CTC project with the temporary staff line diversion (4mm2 twin) for a period of 16 weeks prior to commissioning. Condition: Cable should be double insulated and nylon sheathed | K20: Chris Gormlie, US&S | L20: 39009 | M20: Chris Gormlie 14/06/2007
A21: 700/SG/270906/016 | B21: Completed | C21: 39173 | D21: N/A - Permanent | E21: 45987 | F21: NSW South | G21: Main South - Cunningar to Wallendbeen | H21: SCP17 | I21: 17.6 | J21: Due to limited clearance between track centres at the nominated locations, the new 1:12 crossovers to be installed there cannot include the mid crossover GIRJs that delineate the track circuits on the roads. As such, the resulting bonding arrangement proposed (see attachment 1) is not accordance with SCP 17. Please note that this arrangement is regularly installed in Victoria (see example in Attachment 2). | K21: David Rogers, SIA | L21: 39147 | M21: Melanie Mackie
A22: 500/SG/271006/017 | B22: Closed | C22: 39017 | D22: 39172 | E22: 39169 | F22: NSW West | G22: Matakana and Kinalung | H22: PP122 | J22: To allow use of Trio ER450 Gen II Radios modified to operate in FCC Level 2 non-packet mode at Matakana pending certification by the ACMA (Australian Communications and Media Authority). 01/02/2007 extended to also cover radios used at Kinalung | K22: Patrick Gray | L22: 39020 | M22: Trevor Moore
A23: 200/SG/291106/018 | B23: Closed | C23: 39171 | D23: 39813 | E23: 39890 | F23: Hunter Valley | G23: Main & Coal | J23: To exempt ARTC from undertaking routine maintenance as required by work group 200ELE on the 11,000 volt transmission line that supplies power to signalling and associated facilities throughout the Hunter Valley which is scheduled for decommissioning and removal from 30 March 2007 to 30 December 2007. Visual safety inspections to poles will continue until removal is completed. | K23: Geoff Berry | L23: 39167 | M23: Geoff Berry/Clinton Crump
A24: 700/SG/241006/019 | B24: Closed | C24: 39083 | D24: 39630 | E24: 39631 | F24: NSW South | G24: Main South | H24: SDS00 | I24: 1.1.3 | J24: HVI track circuits will not be immediately installed on newly motorised turnouts - existing DC track circuits will initially remain. HVI track circuits have a very long lead time and will not be available until after the planned commissioning . When the equipment becomes available, the DC track circuits will be changed to HVI circuits. | K24: David Rogers, SIA | L24: 39036 | M24: David Rogers 02/07/2008
A25: 700/SG/301006/020 | B25: Closed | C25: 39147 | D25: 39538 | E25: 40393 | F25: NSW South | G25: Main South - Picton | H25: SDS02 | I25: 2.2.3 | J25: To allow non-rectification of a know existing deficiency whereby the 1820m distance between consecutive signals 51.7 and P11 (52.5) represents 190% overbraking and the sighting and overlap distance does not complly with SDS 02 Clause 2.2.3. Approval condition: Signal 51.7 braking distance to be addressed with section resignalling | K25: David Rogers, SIA | L25: 39147 | M25: Trevor Moore
A26: 700/SG/131206/021 | B26: Closed | C26: 39083 | D26: 40543 | E26: 40578 | F26: NSW South | G26: Main South - Picton area | J26: Interim approval for evaluation of inverter units in service as a pre-requisite for Equipment Approval. Service reliability and performance test results will be reviewed after 3 months and Equipment Approval assessment completed. | K26: Trevor Moore | L26: 39065 | M26: Trevor Moore
A27: 200/SG/221206/022 | B27: Closed | C27: 39085 | D27: 39085 | E27: 39091 | F27: Main South | H27: SMP25, SMP26, NSG220 | I27: 1.7 | J27: Approval for recertification of rail vehicle detection (after 96 hour Wagga Viaduct possession). This does not apply to rerailing activities. Track Block working for passage of 2 trains on each track circuit. Minimum of 4000 Tonnes of train movement before removal of track block working. CAN warning of 2 trains in each direction for Level Crossing. See waiver for Controls. | K27: Ken Driver | L27: 22/12/2006 Amended 02/01/2007 | M27: Ken Driver
A28: 600/SG/310107/023 | B28: Not Required
A29: 700/SG/080207/024 | B29: Completed | C29: 39123 | D29: N/A - Permanent | E29: 45987 | F29: NSW South | G29: Main South - Bundanoon and Wingello | H29: ANTR418 | J29: Waiver to confirm that Network Rule ANTR418 does not require Yard Limit (YL) and End Yard Limit (EYL) boards to be fitted to the new auto signals in the vicinity of the crossovers and sidings at Bundanoon and Wingello. These crossovers and sidings will be released by Junee TCCS operator for local operation of associated ground frames. | K29: David Payne, US&S | L29: 39122 | M29: Melanie Mackie
A30: 700/SG/130207/025 | B30: Completed | C30: 39147 | D30: N/A - Permanent | E30: 45988 | F30: NSW South | G30: Main South - Moss Vale, Stockinbingal, Harden, Junee, Cootamundra | H30: SC 02 01 | I30: 4.2.4 | J30: Signal Mast/Gantry wiring is to be 7/0.5mm which is less than the cable size of 7/0.85. The standard requires the internal wiring of the signal mast to be at least the same size as the cable wired to it. However this is not possible for the cable size used due to the number of cores required, space limitations and bending radii concerned. | K30: David Rogers, SIA | L30: 39147 | M30: Melanie Mackie
A31: 900/SG/230207/026 | B31: Completed | C31: 39136 | D31: N/A - Permanent | E31: 45989 | F31: Network wide | H31: SPS49 | J31: SPS 49 - To allow Stainless Steel Conductor resistance = 120 ohms/km | K31: C J Slater, Olex | L31: 39136 | M31: Melanie Mackie
A32: 700/SG/050307/027 | B32: Closed | C32: 39146 | D32: 39390 | E32: 39421 | F32: NSW South | G32: Stockinbingal | H32: SCP18 | I32: 5.1.2 | J32: Install temporary split sleeve base to hold the signal mast in position until such time the frangible base is supplied Approval condition: For level crossing signal masts only | K32: George Vanek, SIA | L32: 39136 | M32: Scott Croker
A33: 600/SG/270207/028 | B33: Not Required
A34: 900/SG/060307/029 | B34: Completed | C34: 39147 | D34: N/A - Permanent | E34: 45987 | F34: Network wide | J34: To allow standard conductor resistance = 3.39 ohms/km which is within Australian Standard range. Conductor resistance called for by customer = 3 ohms/km. | K34: Janette Aitken, Olex | L34: 39147 | M34: Melanie Mackie
A35: 700/SG/070307/030 | B35: Closed | C35: 39151 | D35: 39294 | E35: 39287 | F35: Melbourne to Sydney - TCC projects | J35: To temporarily approve the installation of the Enatel RW512u 12v 35A wallmount rectifiers for the Power Supply for the TCC Signalling Works subject to type approval being granted following in service trials. These are being offered as a replacement to the Trisan 12v 40A Power Supply that is currently approved for use in NSW. The Trison 12v 40A Power Supply units currently have a long lead time which would delay the commissioning at Stockinbingal on the 19th March 2007 and future TCC projects. The Enatel Rectifiers are readily available and are suitable for the task. | K35: R Vaughan, SIA | L35: 39157 | M35: Trevor Moore
A36: 700/SG/070307/031 | B36: Completed | C36: 39181 | D36: N/A - Permanent | E36: 45987 | F36: NSW South | G36: Harden | H36: SDS01 | I36: 1.13.2 | J36: To allow position of signals adjacent to a point at Harden (388.185km - Up and Down). See waiver form for futher details | K36: Robert Schweiger, SIA | L36: 39177 | M36: Melanie Mackie
A37: 700/SG/090307/032 | B37: Completed | C37: 39150 | D37: N/A - Permanent | E37: 45988 | F37: NSW South | G37: Main South - Bundanoon | H37: ESN-06-01 | J37: ESN-06-01 - To allow positive start for level crossing GCP to be achieved by use of 100m additional DAX island track and 293m of positive start on main GCP. This meets the requirement of 377m calculate for positive start. | K37: N. Arman Haris, US&S | L37: 39150 | M37: Melanie Mackie
A38: 800/SG/140307/033 | B38: Closed | C38: 39155 | D38: 40421 | E38: 40420 | F38: All NSW | H38: SMS15 | I38: 1.1.4 | J38: SMS 15 Clause 1.1.4 - Increase maintenance latitudes from 1 week or 4% to 12 days for all signalling equipment listed in services schedules | K38: Ken Driver | L38: 39157 | M38: 40420
A39: 200/SG/140307/034 | B39: Completed | C39: 39155 | D39: N/A - Permanent | E39: 42774 | F39: Hunter Valley | G39: Sandgate | H39: SCP14 | J39: To allow Evaluator boards to be replaced with Integrated Micro Controller boards, pending equipment approval, Up coad road, 242A Track Axle Counters Q1 & Q2 RSR180 to rectify miscounts due to HiRail and track maintenance vehicles | K39: John Gifford | L39: 39155 | M39: Robert Rath
A40: 700/SG/150307/035 | B40: Closed | C40: 39157 | D40: 40543 | E40: 40499 | F40: NSW South | G40: Main South - TCC projects | H40: SCP14 | J40: To allow for the use of OSD1250 optical fibre modems on TCC projects. Temporary waiver while the equipment passes through the type approval process as per EWAF 200/SG/230806/012. | K40: Robert Schweiger, SIA | L40: 39157 | M40: John Furness
...

Sheet Track
A1: Engineering Waiver Approval Register Engineering Procedure EGP-02-01
A2: Track & Civil
A3: Waiver No (EWAF) & File Link | B3: Status | C3: Start Date | D3: Expiry Date | E3: Close Out Date | F3: ARTC Corridor | G3: Line / Location | H3: Relevant Standard | I3: Clause or Section | J3: Category (T&C CoP) | K3: Waiver Description | L3: Originator (& Company if not ARTC) | M3: Approval Date | N3: Closed Out By
A4: RIC03_185 | B4: Completed | C4: 37894 | D4: N/A - Permanent | E4: 46717 | F4: Hunter Valley; North Coast | H4: TES02 | J4: Rail | K4: Allow rails with identified hydrogen from OneSteel fault with 60kg/m rail to remain in track under a specific testing regime until a decision is made as to their long term future. If rails have been tested (see attached Testing and Classification Procedure) and found not to contain hydrogen then they are ok and no future special action is required - just normal Ultrasonic testing by Test Vehicle. Rails with hydrogen defects, identified and classifed as per the attached procedure, may remain in track until they are removed or retested. | M4: Malcolm Kerr | N4: Melanie Mackie
A5: RIC03_188 | B5: Closed | C5: 37924 | D5: 38260 | E5: TBA | F5: All NSW | H5: TEP01 | K5: Permit testing of painting of rail with Solacoat to establish benefits to Welded Track Stability in Summer | M5: Malcolm Kerr
A6: RIC04_227 | B6: Closed | C6: 38078 | D6: 39416 | E6: 39451 | F6: NSW North West | H6: C2009, C2010, C2011 | K6: Revised base operating standards for track geometry on class 5 lines in North West | M6: Malcolm Kerr | N6: Ragu Nathan & Kandiah Nithiyananthan
A7: RIC04_221 | B7: Closed | C7: 38037 | D7: 38352 | E7: TBA | F7: NSW North Coast | H7: TMS06 | K7: Allow consideration of steel sleeper ties when evaluating timber sleeper condition | M7: Malcolm Kerr
A8: RIC04_228 | B8: Closed | C8: 38078 | D8: 38352 | E8: TBA | F8: NSW North West | H8: TEP19 | K8: Allow altered testing frequency of turnouts for the line from Werris Ck (exclusive) to Armidale. | M8: Malcolm Kerr
A9: RIC04_217 | B9: Closed | C9: 38022 | D9: 38533 | E9: 39027 | F9: NSW North West | H9: TDS05 | K9: Allow re-pressed derailment damaged steel sleepers to remain in track. These were used to replace life expired timber sleepers in the Country West Region. This waiver applies only to steel sleepers previously installed. Any further re-pressed sleepers must be dealt with in accord with waiver RIC 04/219. | M9: Malcolm Kerr | N9: Allowed to expire as relates to same issue as RIC04_219
A10: RIC04_219 | B10: Closed | C10: 38022 | D10: 38533 | F10: NSW North West | H10: TDS05 | K10: Allow the re-pressing and use of derailment damaged steel sleepers for use in the Country West Region for any re-pressing or re-use undertaken in future.. | M10: Malcolm Kerr | N10: Allowed to expire as Wayne James didn't approve
A11: RIC04_216 | B11: Closed | C11: 38024 | D11: 39813 | E11: TBA | F11: NSW North Coast | H11: TDS11 | K11: Allow configuration involving reduced ballast on Grafton Viaduct | M11: Malcolm Kerr | N11: Waiver renewal 300/TR/030209/209
A12: RIC04_242 | B12: Closed | C12: 38169 | D12: 38533 | E12: 39031 | F12: Hunter Valley | H12: TPS05 | K12: Allow trialling of 6 Laser clad glued Insulated Joints | M12: Malcolm Kerr | N12: Robert Taylor
A13: RIC04_243 | B13: Closed | C13: 38169 | D13: 38533 | E13: TBA | F13: All NSW | H13: TEP11 TMS11 | K13: Reduction in WTSA requirements for slow speed loops and refuges. C 2442, TS 0001 MP | M13: Malcolm Kerr | N13: RIC04/243 replaced by 800/TR/200605/003
A14: RIC04_254 | B14: Closed | C14: 38229 | D14: 39172 | E14: 39170 | F14: Hunter Valley | H14: BDS12 | K14: Infringement of rail clearance height beyond 38mm above rail height | M14: Malcolm Kerr | N14: Bob Taylor
A15: RIC04_230 | B15: Closed | C15: 38100 | D15: 38716 | E15: TBA | F15: Hunter Valley | H15: XDS01 | K15: Allow use of Steel Level Crossing in low usage situations on the Ulan Line and Sandgate | M15: Malcolm Kerr | N15: Type Approval 08-08-09-002 has been issued - waiver no longer required
A16: RIC04_235 | B16: Closed | C16: 38126 | D16: 38716 | E16: TBA | F16: Hunter Valley | H16: XDS01 | K16: Allow use of Steel Level Crossing in low usage situations (Branxton and Telarah) | M16: Malcolm Kerr | N16: Type Approval 08-08-09-002 has been issued - waiver no longer required
A17: WRAC.013 | B17: Completed | C17: 35674 | D17: N/A - Permanent | E17: 45987 | F17: NSW North Coast | J17: Rail | K17: Do not widen gauge on curves <200m radius | N17: Melanie Mackie
A18: WRAC.008 | B18: Completed | C18: 35796 | D18: N/A - Permanent | E18: 45987 | F18: Hunter Valley | J18: Structures | K18: Use D.S. Plates instead of Pandrol for Guard Rails | N18: Melanie Mackie
A19: WRAC.005 | B19: Completed | C19: 35886 | D19: N/A - Permanent | E19: 45987 | F19: NSW North Coast | H19: TDS08 | I19: 3 | J19: Earthworks | K19: Reduced Embankment width | N19: Melanie Mackie
A20: WRAC.030 | B20: Completed | C20: 36220 | D20: N/A - Permanent | E20: 45987 | F20: All NSW | H20: TDS11 | I20: 5.1.3 | J20: Track & Civil Management System | K20: Standard Classification of Lines | M20: B Hedley | N20: Melanie Mackie
A21: RAC02.123 | B21: Completed | C21: 37365 | D21: N/A | E21: TBA | F21: All NSW | H21: TES09 | K21: Authorise use of Thermit 60lb/yd to 80lb/yd junction rails on Class 5 lines | M21: Malcolm Kerr | N21: Waiver not to be adopted - incorporated in Standard TMP 09
A22: RAC02.138 | B22: Completed | C22: 37484 | D22: N/A - Permanent | E22: 45987 | F22: All NSW | J22: Sleepers & Fastenings | K22: Reduction in MDFC sleeper shoulder tilt tolerance | M22: Malcolm Kerr | N22: Melanie Mackie
A23: RIC04/251 | B23: Closed | C23: 38231 | D23: 39447 | E23: 39430 | F23: NSW South West | H23: TMS11, TEP09, TEP11 | K23: Allow low usage lines to be exempted from Welded Track Stability Analysis | M23: Malcolm Kerr | N23: Peter Micenko
A24: RIC04/240 | B24: Closed | C24: 38168 | D24: 39082 | E24: TBA | F24: NSW South West | H24: TDS05 | K24: Allow the re-pressing and use of derailment damaged steel sleepers | M24: Malcolm Kerr
A25: RIC03/189 | B25: Closed | C25: 37945 | D25: 39813 | E25: TBA | F25: NSW West | H25: TDS05 TCS10 | K25: Allow fulll scale trial of retrofit of insulators to steel sleepers | M25: Malcolm Kerr | N25: Waiver renewal 500/TR/060209/211
A26: RIC03/176 | B26: Closed | C26: 37849 | D26: 39813 | E26: 40262 | F26: NSW South / West | H26: TDS05 TCS10 | K26: Allow fulll scale trial of retrofit of insulators to steel sleepers | M26: Malcolm Kerr | N26: John Furness
A27: RIC02/142 | B27: Closed | C27: 37500 | D27: 40451 | E27: 39786 | F27: NSW South | H27: TDS01 ETD-02-01 | K27: Allow trial of polymer concrete sleepers Joppa Junction. Sleepers have been in track successfully now for 5 years but will be replaced when the concrete resleepering program takes place. Program planned for early 2008. | L27: Hassan Elaina for renewal | M27: Malcolm Kerr | N27: Hassan Elaina
A28: RIC03/113 | B28: Completed | C28: 37314 | D28: N/A - Permanent | E28: 42227 | F28: NSW South | H28: LDS02 | J28: Points & Crossings | K28: Allow us of non-standard catchpoints in AWB sidings Bogan Gate, Wyalong & Stockinbingal | M28: Malcolm Kerr | N28: Wael Naser
A29: WRAC/036 | B29: Completed | C29: 36251 | D29: N/A - Permanent | E29: N/A | F29: NSW West | H29: TDS06 TDS09 | I29: Section 3 | J29: Points & Crossings | K29: Allow less than absolute minimum design radius | M29: B Hedley | N29: Manager Standards
A30: 200/TR/220205/014 | B30: Not Required | F30: Hunter Valley | K30: Allow track to be adjusted with neutral temperature up to 40 degrees Celsius during summer track closedowns in Hunter Valley.
A31: ARTC05/001 | B31: Closed | C31: 38426 | D31: 39994 | E31: 40093 | F31: Western Jurisdiction | G31: Adelaide - Melbourne | H31: ETA-04-01 | K31: Supply of ballast from Callington Quarry. The LA value has been proposed to increase to max 28 from the current 25. To mitigate this an increase in the PSD has been developed. | L31: Ben Leske | M31: 38426 | N31: Ben Leske
A32: 2005_03_SA_01 | B32: Closed | C32: 38439 | D32: 39263 | E32: 39202 | F32: Western Jurisdiction | G32: Adelaide - Melbourne | K32: Addition to current standard turnout. Some concrete bearer turnouts manufactured by VAE already have blade rollers. This is a trial of retrofitted rollers to an existing turnout. Papers attached showing detail. Initial trial period at Mt Lofty and Coombe. | L32: Marko Barchet, Teksol | M32: 38426 | N32: Tim Calver
A33: ARTC05/005 | B33: Not Required | K33: Accept structural fill material with a percentage passing 75 micrometer seive of up to 33% (up from 30% specified in RCP01) in accordance with Geotechnical Consultants recommendation (RCP 01 Clause 8)
A34: ARTC05/006 | B34: Not Required | C34: 38414 | D34: 38717 | E34: 39013 | F34: NSW West | G34: Kinalung, Matakana, Yarrabandi | H34: TDS11 | K34: TDS11 Section 5 specifies formation to be lowered to achieve ballast depth under turnout bearers. Waiver requests change in level to be run out in ballast to maintain integrity of formation. | L34: Patrick Gray | M34: 38426 | N34: Pat Gray
A35: WW03/2005 | B35: Not Approved | C35: 38371 | D35: N/A | E35: N/A | F35: NSW West | H35: TCS10 | K35: Steel sleepers have been installed by RIC in a non-standard pattern with bunching | L35: Trevor Watkins
A36: WW2005/06 | B36: Not Required | C36: 38322 | D36: TBA | E36: TBA | F36: NSW West | H36: LEP02 | K36: Steel bearer turnout constructed using components that result in permanent tight gauge exceeding standard tolerance when assembled | L36: Hassan Elaina
A37: 700/TR/160904/001 | B37: Completed | C37: 38246 | D37: N/A | E37: 40028 | F37: NSW South | G37: Main South | H37: TCS07 | K37: To permit modifications to broad gauge, field face of Up side Pandrol plates to facilitate clearance to transom holding down bolts on the two river spans of the wrought iron transom top bridge at 648.487km | L37: Hassan Elaina | M37: 38485 | N37: Mike Green
A38: 700/TR/300505/002 | B38: Not Approved | C38: 38246 | D38: N/A | E38: N/A | F38: NSW South | G38: Main South | H38: TMS06 | K38: Existing sleeper condition does not meet minimum requirements to be effective for at least 28 days (TMS 06) | L38: Hassan Elaina
A39: 800/TR/200605/003 | B39: Closed | C39: 38899 | D39: 38898 | E39: 38899 | F39: All NSW | H39: TEP11 TMS11 | K39: Reduction in WTSA requirements for slow speed loops and refuges. TEP 11 (RIC C 2442), TMS 11 (RIC TS 0001 MP). Previous waiver RIC 04/243. | L39: Robert Hamilton | M39: 38889 | N39: N/A
A40: 700/TR/060705/004 | B40: Completed | C40: 38538 | D40: N/A | E40: 40940 | F40: NSW South | H40: TMP01, TDS13, TDS14 | K40: Write off all existing defects in the lines: Wyalong-Burcher; Barmedman-Rankins Springs; Yanco-Willibriggie. Respond only to any new defect that may arise which has a potential impact on the public safety. In compliance with closed line inspections. | L40: Hassan Elaina | M40: 38565 | N40: Mike van de Worp 1/02/2012
...

Sheet Competency
A1: Competency Waiver Approval Register
B2: Waiver No. | C2: Status | D2: Start Date | E2: Expiry Date | F2: Discipline | G2: Justification | H2: Requester | I2: Assessor | J2: Approved By | K2: Approval Date
B3: CO/0001 | C3: Active | D3: 46239 | E3: N/A - Permanent | F3: Signalling | G3: Certificate IV in Electrical Rail Signalling or equivalent | H3: John Bainbridge | I3: Christopher Miller, Omada Rail/Egis Group | J3: Principal Signalling Engineer | K3: 46239
B4: CO/0002 | C4: Active | D4: 46141 | E4: N/A-Permanent | F4: Signalling | G4: Graduate Diploma of Railway Signalling or equivalent Bachelor/Advanced/Diploma of Electrical Engineering or equivalent Bachelor/Advanced/Diploma of Electrical Systems Engineering or equivalent Advanced/Diploma of ESI Power Systems or equivalent Certificate IV in Electrical Rail Signalling or equivalent IRSE Designer Licence/ IRSE Design Verifier Licence | H4: Ian Maydew | I4: Graham Norris, Onyx Signalling Services | J4: Principal Signalling Engineer | K4: 46141
B5: CO/0003 | C5: Active | D5: 46149 | E5: 46387 | F5: All Disciplines | G5: TAEASS412 Assess Competence or Equivalent | H5: Agnes Walsh | I5: Chris Rykiert | J5: GM Technical Services & Assurance | K5: 46180
B6: CO/0004 | C6: Active | D6: 46150 | E6: N/A - Permanent | F6: Signalling | G6: Bachelor of Engineering Degree (Electrical, Electronics and Communication, Mechatronics, Software, Computer Systems, Communications) | H6: Steven Power | I6: Graham Norris, Onyx Signalling Services | J6: Principal Signalling Engineer | K6: 46150
B7: CO/0005 | C7: Active | D7: 46161 | E7: N/A - Permanent | F7: Signalling | G7: Graduate Diploma of Railway Signalling or equivalent • Bachelor/Advanced/Diploma of Electrical Engineering or equivalent • Bachelor/Advanced/Diploma of Electrical Systems Engineering or equivalent • Advanced/Diploma of ESI Power Systems or equivalent • Certificate IV in Electrical Rail Signalling or equivalent • IRSE Designer Licence/ IRSE Design Verifier Licence | H7: Ben Naylor | I7: Graham Norris, Onyx Signalling Services | J7: Principal Signalling Engineer | K7: 46161
B8: CO/0006 | C8: Active | D8: 45799 | E8: N/A - Permanent | F8: Signalling | G8: 1. Bachelor of Engineering Degree (Electrical, Electronics and Communication, Mechatronics, Software, Computer Systems, Communications) 2. One from below: • Graduate Diploma of Railway Signalling or equivalent • Advanced/Diploma of Electrical Engineering or equivalent • Advanced/Diploma of Electrical Systems Engineering or equivalent • Advanced/Diploma of ESI Power Systems or equivalent | H8: David Child | I8: Stuart Graymore, Sigtech Solutions | J8: Principal Signalling Engineer | K8: 45799
B9: CO/0007 | C9: Active | D9: 45798 | E9: N/A-Permanent | F9: Signalling | G9: Certificate IV in Electrical Rail Signalling or equivalent | H9: Peter Priem | I9: Stuart Graymore, Sigtech Solutions | J9: Principal Signalling Engineer | K9: 46163
B10: CO/0008 | C10: Active | D10: 46168 | E10: N/A-Permanent | F10: All Disciplines | G10: Engineering Bachelor Degree | H10: Steven Parkinson | I10: Mayank Jain, ARTC | J10: Manager Engineering Services | K10: 46168
B11: CO/0009 | C11: Awaiting
B12: CO/0010 | C12: Active | D12: 46176 | E12: N/A - Permanent | F12: Signalling | G12: R3 Certificate IV in Electrical Rail Signalling or equivalent - Signal Electrician /Maintainer | H12: Christopher Duncan | I12: Graham Norris, Onyx Signalling Services | J12: Principle Signalling Engineer | K12: 46176
B13: CO/0011 | C13: Active | D13: 46182 | E13: N/A - Permanent | F13: Signalling | G13: R4 Bachelor of Engineering Degree (Electrical, Electronics and Communication, Mechatronics, Software, Computer Systems, Communications) R5 One from below: • Graduate Diploma of Railway Signalling or equivalent • Advanced/Diploma of Electrical Engineering or equivalent • Advanced/Diploma of Electrical Systems Engineering or equivalent • Advanced/Diploma of ESI Power Systems or equivalent | H13: Mick Stoneham | I13: Graham Norris, Onyx Signalling Services | J13: Principle Signalling Engineer | K13: 46182
B14: CO/0012 | C14: Active | D14: 46190 | E14: 47651 | F14: All Disciplines | G14: Tertiary Qualification – Bachelor’s degree or equivalent Record of Relevant Experience (RORE) – 7 years | H14: Rahim Savari | I14: Chris Brown, IR | J14: Manager Engineering Services | K14: 46189
B15: CO/0013 | C15: Active | D15: 46192 | E15: N/A - Permanent | F15: Signalling | G15: Electrical Licence | H15: Paul Morgan | I15: Graham Norris, Onyx Signalling Services | J15: Principle Signalling Engineer | K15: 46192
B16: CO/0014 | C16: Active | D16: 46195 | E16: N/A - Permanent | F16: Signalling | G16: One from below: • Graduate Diploma of Railway Signalling or equivalent • Bachelor/Advanced/Diploma of Electrical Engineering or equivalent • Bachelor/Advanced/Diploma of Electrical Systems Engineering or equivalent • Advanced/Diploma of ESI Power Systems or equivalent • Certificate IV in Electrical Rail Signalling or equivalent • IRSE Designer Licence/ IRSE Design Verifier Licence | H16: Stuart Lodge | I16: Graham Norris, Onyx Signalling Services | J16: Principle Signalling Engineer | K16: 46195
B17: CO/0015 | C17: Active | D17: 46195 | E17: N/A - Permanent | F17: Signalling | G17: • Bachelor of Engineering Degree (Electrical, Electronics and Communication, Mechatronics, Software, Computer Systems, Communications) | H17: Kevin Lean 20-00068186 | I17: Graham Norris, Onyx Signalling Services | J17: Principle Signalling Engineer | K17: 46195
B18: CO/0016 | C18: Active | D18: 46202 | E18: 46933 | F18: All Disciplines | G18: Record of Relevant Experience (RORE) – 7 Years | H18: David Cresswell 20-00193792 | I18: Kurt Uerbergang, IR | J18: Area Director N2N | K18: 46202
B19: CO/0017 | C19: Active | D19: 46209 | E19: N/A - Permanent | F19: Signalling | G19: One from below: • Graduate Diploma of Railway Signalling or equivalent • Bachelor/Advanced/Diploma of Electrical Engineering or equivalent • Bachelor/Advanced/Diploma of Electrical Systems Engineering or equivalent • Advanced/Diploma of ESI Power Systems or equivalent • Certificate IV in Electrical Rail Signalling or equivalent | H19: Nathan Rice | I19: Graham Norris, Onyx Signalling Services | J19: Principle Signalling Engineer | K19: 46209
B20: CO/0018 | C20: Active | D20: 46239 | E20: N/A - Permanent | F20: Signalling | G20: UEERS0021 Assemble and wire electrical rail signalling equipment or equivalent UEERS0024 Install and maintain rail track circuit leads and bonds or equivalent UEERS0037 Test copper rail signalling cables or equivalent | H20: Magnus Vandapeer | I20: Chris Miller - Egis Group | J20: Principal Signalling Engineer | K20: 46239
B21: CO/0019 | C21: Not Required
B22: CO/0020 | C22: Active | D22: 46217 | E22: N/A - Permanent | F22: Signalling | G22: R1 Electrical Licence | H22: Matthew Taylor | I22: Graham Norris, Onyx Signalling Services | J22: Principle Signalling Engineer | K22: 46217
B23: CO/0021 | C23: Active | D23: 46237 | E23: 47333 | F23: All Disciplines | G23: Civil Design - Designer | H23: Willem (Simon) Woldhuis | I23: Kathryn Barwick, WSP Australia | J23: Principal Track & Civil Engineer | K23: 46237
B24: CO/0022 | C24: Active | D24: 46245 | E24: N/A - Permanent | F24: Signalling | G24: One from below: • Graduate Diploma of Railway Signalling or equivalent • Advanced/Diploma of Electrical Engineering or equivalent • Advanced/Diploma of Electrical Systems Engineering or equivalent • Advanced/Diploma of ESI Power Systems or equivalent | H24: Francis Rault | I24: Graham Norris, Onyx Signalling Services | J24: Principal Signalling Engineer | K24: 46245
B25: CO/0023 | C25: Active | D25: 46246 | E25: N/A - Permanent | F25: All Disciplines | G25: Bachelor of Engineering Degree | H25: Paul Dunning | I25: Bryce Smith, ARTC | J25: Senior Manager Technology Services and Operation | K25: 46246
B26: CO/0024 | C26: Active | D26: 46248 | E26: N/A - Permanent | F26: Signalling | G26: Bachelor of Engineering Degree (Electrical, Electronics and Communication, Mechatronics, Software, Computer Systems, Communications) | H26: Todd Denholm | I26: John Budden - Sigtech Solutions | J26: Senior Manager Technology Services and Operations | K26: 46248
B27: CO/0025 | C27: Active | D27: 46259 | E27: 46247 | F27: All Disciplines | G27: 7 years’ experience – Project Engineer Path 2 | H27: Thiran Nalawattage | I27: Kurt Uerbergang, IR | J27: Manager Engineering Services | K27: 46259
B28: CO/0026 | C28: Active | D28: 46265 | E28: N/A - Permanent | F28: Signalling | G28: R1 Electrical Licence | H28: John Bainbridge | I28: Christopher Miller, Omada Rail/Egis Group | J28: Principal Signalling Engineer | K28: 46265
B29: CO/0027 | C29: Active | D29: 46258 | E29: N/A - Permanent | F29: Signalling | G29: Advanced/Diploma of Electrical Engineering or equivalent | H29: Nicholas Williams | I29: Stuart Graymore, Sigtech Solutions | J29: Principle Signalling Engineer | K29: 46258
B30: CO/0028 | C30: Not Required
B31: CO/0029 | C31: Active | D31: 46279 | E31: N/A - Permanent | F31: All Disciplines | G31: Tertiary Qualification - Engineering Bachelor Degree (Design) | H31: Mark Robisnon | I31: Ali Ghiasi, ARTC | J31: Principal Track Engineer | K31: 46279
B32: CO/0030 | C32: Active | D32: 46279 | E32: N/A - Permanent | F32: Signalling | G32: Tertiary Qualification - Engineering Bachelor Degree (Signalling) | H32: Jarred Neave | I32: John Budden - Sigtech Solutions | J32: Principal Signalling Engineer | K32: 46279
B33: CO/0031 | C33: Active | D33: 46279 | E33: N/A - Permanent | F33: Signalling | G33: Bachelor of Engineering Degree (Electrical, Electronics and Communication, Mechatronics, Software, Computer Systems, Communications) | H33: Abhishek Kumar Mishra | I33: Selva Nithianandan, ARTC | J33: Principal Signalling Engineer | K33: 46279
B34: CO/0032 | C34: Active | D34: 46304 | E34: N/A - Permanent | F34: Structures | G34: • TLIB3087 Examine timber structures • TLIB3088 Examine steel structures • TLIB3098 Examine concrete/masonry structures | H34: Liam Coleman | I34: Ali Ghiasi, ARTC | J34: A/Manager Engineering Services | K34: 46304
B35: CO/0033 | C35: Active | D35: 46321 | E35: 46631 | F35: Signalling | G35: • Graduate Diploma of Railway Signalling or equivalent • Bachelor/Advanced/Diploma of Electrical Engineering or equivalent • Bachelor/Advanced/Diploma of Electrical Systems Engineering or equivalent • Advanced/Diploma of ESI Power Systems or equivalent • Certificate IV in Electrical Rail Signalling or equivalent • IRSE Designer Licence/ IRSE Design Verifier Licence | H35: Muthukumaran Mariyappan | I35: Inderjit Lail, ISLink Pty Ltd | J35: Principle Signalling Engineer | K35: 46321
B36: CO/0034 | C36: Active | D36: 46332 | E36: N/A - Permanent | F36: Signalling | G36: Bachelor of Engineering Degree (Electrical, Electronics and Communication, Mechatronics, Software, Computer Systems, Communications) | H36: John Love | I36: Graham Norris, Onyx Signalling Services | J36: Principle Signalling Engineer | K36: 46332
B37: CO/0035 | C37: Awaiting

Sheet Administration
A1: Engineering Waiver Approval Register Engineering Procedure EGP-02-01
A2: Administration
A3: Waiver No. (EWAF) & File Link | B3: Status | C3: Start Date | D3: Expiry Date | E3: Close Out Date | F3: ARTC Corridor | G3: Line / Location | H3: Relevant Standard | I3: Clause or Section | J3: Waiver Description | K3: Originator (& company if not ARTC) | L3: Approved By | M3: Approval Date | N3: Closed Out By
A4: 500/AD/180305/001 | B4: Not Required | J4: Defects report forms TER01, TER02 to be replaced with new defect form | K4: Philip Lim
A5: 800/AD/120505/002 | B5: Closed | C5: 38484 | D5: 12 months from individual's expiry date | E5: 38868 | F5: ALL NSW | J5: Extend recertification period for 7 task classifications on the attached list for 12 months. Only those shown as 1 or 2 years. | K5: Tim Calver | L5: John Cowie | M5: 38485 | N5: Tim Calver 31/05/2006
A6: 800/AD/120505/002(a) | B6: Closed | C6: 38867 | D6: Additional 6 months (to a total of 18 months) from individual's expiry date | E6: 39050 | F6: ALL NSW | J6: Extend recertification period for 6 task classifications on the attached list (with the exception of RIC28 Perform Ultrasonic Testing) for an additional 6 months from the original 12 month extension as per waiver 800/AD/120505/002 | K6: Tim Calver | L6: John Cowie | M6: 38859 | N6: Nicole Highfield (29/11/2006
A7: 300/AD/210905/003 | B7: Closed | C7: 38616 | D7: 38990 | E7: 38874 | F7: NSW | G7: Hunter Valley & North Coast | H7: PP166, TEP14 | J7: To permit Hunter Valley and North Cost corridors to use the North Coast Exceedent form in lieu of the Defect Report Form from PP-166 and TEP 14: Form 1. | K7: Bob Taylor & John Ogilvy | L7: John Cowie | M7: 38621 | N7: Bob Taylor 06/06/2006
A8: 200/AD/210905/004 | B8: Closed | C8: 38775 | D8: 40908 | E8: TBA | F8: ALL NSW | H8: TEP04, TER04 | J8: To permit use of a Siding Inpsection form not provided in ARTC Standards. | K8: Hassan Elaina | L8: John Cowie | M8: 38776 | N8: Mike van de Worp 11/01/2012
A9: 200/AD/220206/005 | B9: Closed | C9: 38775 | D9: 38868 | E9: 38874 | F9: NSW | G9: Hunter Valley & North Coast | H9: TEP14, TEP04, TEP05 | J9: To permit use use of report "Routine Maintenance - Scheduled Work Orders" in lieu of TEP 14 form 1 for detail walk, (TEP 04), Track patrol and Front of train examination (TEP 14), TEP 05 and others | K9: Bob Taylor | L9: John Cowie | M9: 28/02/2006 and amendment 04/04/2006 | N9: Bob Taylor 06/06/2006
A10: 800/AD/300606/006 | B10: Closed | C10: 38898 | D10: 39081 | E10: 39092 | F10: ALL NSW | J10: Extend recertification period for RIC28 Perform Ultrasonic Testing for 6 months (further to original 12 month extension in waiver 800/120505/002) | K10: Nicole Highfield | L10: John Cowie | M10: 38898 | N10: Nicole Highfield
A11: 800/AD/301106/007 | B11: Closed | C11: 39416 | D11: 39202 | E11: 39255 | F11: ALL NSW | J11: Extend recertification period for two welding task classifications (TDTW401A Weld using Aluminothermic Welding Technique and RIC54W Weld using flux core arc Welding Processes) until end April 2007 due to early onset of fire bans in NSW. This is an extension of wavier 800/AD/120505/002(a) for these two welding task classifications only. Condition: Team Managers to check that all affected staff have been consistently working to appropriate standards and procedures since last accredited. | K11: Nicole Highfield | L11: John Cowie | M11: 39049 | N11: Nicole Highfield
A12: 800/AD/280207/008 | B12: Closed | C12: 39142 | D12: 41090 | E12: 41162 | F12: All NSW | H12: TMS11 | I12: 5 | J12: Use local databases to print TES inspection forms pre-populated with details of the infrastructure being examined, providing the form includes a provision to record all details specified of the standard inspection form wherever specified. | K12: Trevor Watkins | L12: John Cowie | M12: 39143 | N12: John Furness 10/09/2012
A13: 600/AD/040407/009 | B13: Not Required
A14: 800/AD/280508/010 | B14: Closed | C14: 39600 | D14: 40600 | E14: 40644 | F14: ALL NSW | H14: AS4292 | I14: 2.7.2 | J14: When non ARTC badged safeworking forms are encountered, the safeworking form is to be amended to show "ARTC" and utilised. | K14: Milton Bryan | L14: Barry Walding | M14: 39602 | N14: Greg Watson & John Furness
A15: 850/AD/130509/011 | B15: Not Required
A16: 850/AD/130509/012 | B16: Completed | C16: 39946 | D16: N/A | E16: 40940 | F16: CRN | H16: PP-166 | J16: Report signal faults/failures/incidents on the same incident form as that used to report closeout details for TCR's and not PP166F-01 when entering defect details into WMS | K16: Trevor Watkins | L16: John Furness | M16: 40016 | N16: Mike van de Worp 1/02/2012
A17: 850/AD/260609/013 | B17: Closed | C17: 39995 | D17: 40359 | E17: 40379 | F17: CRN | H17: TEP 11 | I17: 2 | J17: Use local databases to print TrackStab Field Sheets - (these forms are not exactly the same as currently approved forms), until the track alignment and monument data on these forms is input into the TrackStab database. | K17: Trevor Watkins | L17: John Furness | M17: 40001 | N17: Scott Chapman
A18: 200/AD/250809/014 | B18: Not Required
A19: 850/AD/291009/015 | B19: Closed | C19: 39829 | D19: 41090 | E19: 40940 | F19: CRN | H19: RAP 5391 | I19: Appendix 1 | J19: Use of the Weekly Return - Aluminothermic Welding / Adjustment RAP form as specified in the standard RAP 5391 Issue 1, Revision 1, and Dated 16 Jan 2009 to be deferred till the current stock of the printed forms are used. | K19: Arun Jogal | L19: John Furness | M19: 11/01/2010 01/10/2010
A20: AD/0001 | B20: Completed | C20: 43665 | D20: N/A - Permanent | E20: 45987 | F20: Inland Rail | G20: N/A | H20: EGP-04-01 | I20: Section 2.1 & 3.1 | J20: This waiver allows each CAD file to be self-contained with no external links or references which may result in an incomplete file being accessible for future use. This may only be excepted if CAD files are provided unbound in a self-contained package as a zip file and it can be established that the reference file paths in each drawing sheet are able to be resolved when the unbound drawing package is unzipped to a single folder. | K20: Dylan Weeks | L20: Phillip Campbell | M20: 43665 | N20: Melanie Mackie
A21: AD/0002 | B21: Closed | C21: 43710 | D21: 44012 | E21: 44055 | F21: Albury to Serviceton | G21: N/A | H21: EGP-03-01 | I21: Section 3.4 Para 3 | J21: As an initiative from the ARTC Business Improvement, it was recommended that a trial commence to comply with the following: Replacing an item with an approved alternative item is a configuration change. A NAN is not required when replacing an item with an approved alternative item that does not result in any changes to the operational capability, configuration or safe-working requirements of the ARTC Network; however, distribution of the change information is required so that records can be updated. Where the change occurs because of an MPM or CAP project, the change shall be described in the Configuration Management Plan section of the Project documents and a copy of the Change Configuration List shall be completed and appended to the Project documentation | K21: Fiona Boyle | L21: Phillip Campbell | M21: 43710 | N21: Peter Haskard & Phil Campbell (12/08/2020)
A22: AD/0003 | B22: Completed | C22: 43837 | D22: NA/ Permanent | E22: 45987 | F22: Inland Rail | G22: N/A | H22: EGP-04-01 | I22: Section 3.1 & 3.7 | J22: This waiver enables the digital acceptance of drawings through an electronic approval process in accordance with the Inland Rail procedures that are compliant with the Electronic Transactions Acts of the respective Commonwealth and State jurisdictions. It provides acceptance that is functionally equivalent to the use of signatures is beneficial to ARTC in the following ways: • Improve business outcomes through the removal of inefficiencies. • Provide the workforce with greater flexibility. • Enforce greater accountability over current drawing acceptance processes. The use of digital acceptance also aligns with ARTC company values Future Thinking, Active Engagement and Results in identifying a method to innovate existing processes through collaboration and the use of technology. Furthermore, digital acceptance meets the requirement of the National Archives of Australia Digital Continuity 2020 Policy for the information of Commonwealth agencies (including interactions, decisions and authorisations) to be managed and recorded digitally. There is no cost of procurement or expense outlay, as the electronic approval process for digital acceptance is within a module of the Aconex system that has been purchased but remains underutilised. The assessment against financial risk was found to be of net benefit due to improved organisational performance, operational time gains and removal of the requirement for purchasing additional software to facilitate signature approvals. | K22: Dylan Weeks | L22: Phillip Campbell | M22: 43837 | N22: Melanie Mackie
A23: AD/0004 | B23: Closed | C23: 43867 | D23: 44286 | E23: 44285 | F23: Telarah to Acacia Ridge / Kalgoorlie to Serviceton and Ivanhoe / Sydney to Ivanhow and Albury (SIA) and Melbourne to Serviceton and Albury (MSA) | G23: N/A | H23: EGP-10-01 | I23: 4.1 | J23: This waiver enables Continuous Ultrasonic Inspections to be managed under the terms of a contract instead of a Maintenance Scheduled Task (MST) in the Asset Management System Ellipse. Close out Statement: This waiver is no longer required. MST's are configured in Ellipse and monitored via Compliance Reporting, MST Verification Reporting and periodic testing coverage reports. Additionally, programmed Assurance Reviews continue. | K23: Matt Walker | L23: Phillip Campbell | M23: 43867 | N23: Adam Causley and Phillip Campbell
A24: AD/0005 | B24: Closed | C24: 44475 | D24: 44864 | E24: 44869 | F24: Hunter Valley | G24: Ulan Branch Line 289.000km to 289.400km | H24: EGP-04-01 | I24: 3.7 | J24: This waiver will allow for ARTC acceptance of drawings to be provided through the release of a Hold Point. ARTC acceptance would be managed through the Contractors quality system with a Hold Point placedon commencement of construction (to which the specific drawings apply). Release of the Hold Point is by ARTC.Documentation required to support the Hold Point release will be the supply of Independantly reviewed and verified IssuedFor Construction drawings. The waiver is applicable for the Muswellbrook Bridge Replacement Project only. Closeout Statement - Muswellbrook Bridge Replacement Project now complete. All IFC Drawings have now been signed as per Clause 3.7 of EGP-04-01, with drawings uploaded to Aconex drawing management system. Evidence of HP release included within project job folder. | K24: Clinton Patterson | L24: Wayne Olsen | M24: 44470 | N24: Sean Cumpson & Melanie Mackie
A25: AD/0006 | B25: Expired | C25: 45301 | D25: 45382 | E25: TBA | F25: Inland Rail | G25: Narrabri to North Star (N2NS) SP1 574784.000 to 760499.564km | H25: EGP-04-01 | I25: 6.2 | J25: This waiver permits for current maintenance/operation activities to utilise ‘As Commissioned’ drawings instead of ‘As Built’ Drawings for a limited time. | K25: Rachel Bradshaw | L25: Melanie Mackie | M25: 45301
A26: AD/0007 | B26: Completed | C26: 45341 | D26: N/A - Permanent | E26: 45987 | F26: North/South | G26: Botany Rail Duplication and Cabramatta Loop Projects only, | H26: EGP-04-01 | I26: 5.1 | J26: This waiver permits a competent ARTC Project Leader (Project Director or Senior Project Manager) to Accept As Commissioned and As Built Drawings on behalf the ARTC. Instead of the applicable discipline project / maintenance Engineer for the Botany Rail Duplication and Cabramatta Loop Projects only | K26: Christine Tsao | L26: Melanie Mackie | M26: 45341 | N26: Melanie Mackie
A27: AD/0008 | B27: Active | C27: 45496 | D27: 46088 | E27: TBA | F27: N/A | G27: North/South | H27: EGP-04-01 | I27: 4.4, 5.1 and 5.6 | J27: This waiver permits for geotechnical designs that are related to AWP (Annual Works Plan) and incident Projects. A competent ARTC Track &Civil Engineer (holding current Track Design or Civil Design roles in RIW) will accept IFC, As-Commissioned and As-built drawings on behalf of ARTC instead of the applicable discipline engineer. | K27: Curtis McClelland | L27: Melanie Mackie | M27: 45130
A28: AD/0009 | B28: Closed | C28: 45422 | D28: 45534 | E28: 45540 | F28: N/A | G28: All ARTC | H28: EGP-01-01 | I28: Appendix A | J28: This waiver permits the interim arrangement whilst the Head of Operations Standards position is vacant, the responsible approver will be the Headof Engineering Standards until procedure is updated to reflect revised organisational structure / titles. Reason for closeout: Waiver no longer required as EGP-01-01 has been updated to reflect current structure | K28: Svitlana Ivanova | L28: Melanie Mackie & Anthoney Bird | M28: 10/05/2024 Closeout: 05/09/2024 | N28: Chris Rykiert and Melanie Mackie
A29: AD/0010 | B29: Active | C29: 45978 | D29: 47439 | E29: TBA | F29: N/A | G29: N/A | H29: EGP0103F-02 | J29: Hold formal recognition of competence in the following units. - TAEASS412 Assess Competence or Equivalent | K29: Christopher Lewis | L29: Chris Rykiert & Melanie Mackie | M29: 45978
A30: AD/0011 | B30: Active | C30: 46007 | D30: 47467 | E30: TBA | F30: N/A | G30: N/A | H30: EGP0103F-02 | J30: Hold formal recognition of competence in the following units. - TAEASS412 Assess Competence or Equivalent | K30: Rhys Higham | L30: Chris Rykiert & Melanie Mackie | M30: 46007
A31: AD/0012 | B31: Active | C31: 46045 | D31: 47506 | E31: TBA | F31: N/A | G31: N/A | H31: EGP0103F-02 | J31: Hold formal recognition of competence in the following units. - TAEASS412 Assess Competence or Equivalent | K31: Mahrina Munir | L31: Chris Rykiert & Melanie Mackie | M31: 46045
A32: AD/0013 | B32: Active | C32: 46084 | D32: 47515 | E32: TBA | F32: N/A | G32: Statement of TAEASS402 Assess Competence Equivalence | H32: EGP-01-03 | I32: Appendix 2 | J32: Waiver Statement No: 0013-001 Craig Fei / RIW No: 20-00076191 | K32: Craig Fei | L32: Melanie Mackie | M32: 46084
A35: Administration Waivers Summary
A36: Waivers Awaiting Submission or Approval | D36: =COUNTIF(B4:B29,"Awaiting") -> 0
A37: Active Waivers | D37: =COUNTIF(B4:B29,"Active") -> 2
A38: Expired Waivers | D38: =COUNTIF(B4:B29,"Expired") -> 1
A39: Closed Waivers | D39: =COUNTIF(B4:B29,"Closed") -> 15
A40: Not Required | D40: =COUNTIF(B4:B29,"Not Required") -> 4
A41: Sub Total | D41: =SUM(D36:D40) -> 22

Sheet Rolling Stock
A1: Engineering Waiver Approval Register Engineering Procedure EGP-02-01
A2: Rolling Stock
A3: Waiver No. (EWAF) & File Link | B3: Status | C3: Start Date | D3: Expiry Date | E3: Close Out Date | F3: ARTC Corridor | G3: Line / Location | H3: Relevant Standard | I3: Clause or Section | J3: Category | K3: Waiver Description | L3: Originator (&Company if not ARTC) | M3: Approval Date | N3: Closed Out By
A4: 900/RS/240707/001 | B4: Closed | C4: 39287 | D4: 39478 | E4: 39329 | F4: Western Jurisdiction | G4: SA/WA and Vic | H4: ARTC CoP | I4: 7.2.7 | K4: Rolling Stock Outlines A, B, C, D, E, F (Figures 7.2 to 7.7) - reduce minimum above rail clearance from 80mm to 75mm, each side of and between wheels, to be consistent with ARTC NSW Standards. | L4: Ian Domleo | M4: 39288 | N4: Ian Domleo
A5: 800/RS/010707/002 | B5: Completed | C5: 01/07/2007 (alteration effective 3/06/2015) | D5: N/A - Permanent | E5: 45683 | F5: All | G5: All ARTC network | H5: PP-127 | I5: All | K5: RSS rolling stock standards as supplied and used by RailCorp are to be used to maintain ARTC rolling stock based in NSW. This is an extension of a previously approved waiver and is a formalisation of the current practice. Variation detail: The RIC based rolling stock maintenance standards have been used to maintain the NSW based rolling stock fleet since 2004. These standards have a significant depth of information, instruction and reporting forms available which surpass the existing ARTC internal standard PP-127. Updated 3/06/2015 to include rolling stock for all of ARTC network. Conditions of approval: * RSS Rolling Stock standards are referenced in the ARTC RVM. * This waiver will apply until the RVM is approved. | L5: Greg Whelan | M5: 25/07/2007 (alteration effective 3/06/2015) | N5: Melanie Mackie
A6: 700/RS/080610/003 | B6: Not Required
A7: RS/0004 | B7: Active | C7: 45316 | D7: 45945 | E7: TBA | F7: National Rolling Stock | G7: N/A | H7: RSS032 | I7: Section 3 | J7: Rolling Stock | K7: This waiver permits for the replacement of any at-risk wheel sets in a timely manner and in line with scheduled routine maintenance. | L7: Greg Whelan | M7: 45316 | N7: TBA
A10: Rolling Stock Waivers Summary
A11: Waivers Awaiting Submission or Approval | D11: =COUNTIF(B4:B7,"Awaiting") -> 0
A12: Active Waivers | D12: =COUNTIF(B4:B7,"Active") -> 1
A13: Expired Waivers | D13: =COUNTIF(B4:B7,"Expired") -> 0
A14: Closed Waivers | D14: =COUNTIF(B4:B6, "closed") -> 1
A15: Not Required | D15: =COUNTIF(B4:B6, "not required") -> 1
A16: Sub Total | D16: =SUM(D10:D15) -> 3

Sheet Bridges & Structures
A1: Engineering Waiver Approval Register Engineering Procedure EGP-02-01
A2: Bridges & Structures
A3: Waiver No. (EWAF) & File Link | B3: Status | C3: Start Date | D3: Expiry Date | E3: Close Out Date | F3: ARTC Corridor | G3: Line / Location | H3: Relevant Standard | I3: Clause or Section | J3: Category (T&C CoP) | K3: Waiver Description | L3: Originator (& Company if not ARTC) | M3: Approval Date | N3: Closed Out By
A4: RIC04/233 | B4: Closed | C4: 31/03/2004 | D4: 31/08/2004 | E4: 04/10/2006 | F4: NSW North West | K4: Extension of time for Mag Particle Testing (MPT) of critical cross girder end connection and lattice truss splices. CTN 03/03 For WI truss bridge | M4: Ben Chung | N4: Peter Prasad
A5: RIC04/236 | B5: Closed | C5: 21/05/2004 | D5: 30/06/2005 | E5: 04/10/2006 | F5: All NSW | K5: Extension of time for detailed examination of footbridges and subways | M5: Ben Chung | N5: Peter Prasad
A6: RIC04/256 | B6: Closed | C6: 01/07/2004 | D6: 31/12/2005 | E6: 04/10/2006 | F6: NSW North Coast | K6: Allow use of 'hybrid' girders on trial basis | M6: Ben Chung | N6: Peter Prasad
A7: RIC04/223 | B7: Completed | C7: 01/10/2003 | D7: N/A | E7: TBA | F7: NSW North West | J7: Structures | K7: Transoms with reduced thickness on Woolbrook truss bridge. C 4005, C3108 (undersized transoms) | M7: Ben Chung | N7: Mike van de Worp 1/02/2012
A8: RIC04/252 | B8: Completed | C8: 31/08/2004 | D8: N/A | E8: TBA | F8: Hunter Valley | J8: Structures | K8: Guard rails not required on underbridge | M8: Ben Chung
A9: RIC04/251 | B9: Completed | C9: 01/10/2003 | D9: N/A - Permanent | E9: 46717 | F9: NSW South | G9: Cootamundra | J9: Structures | K9: Allow reduction in minimum depth of cover below rail from 1.6m to 0.76m for third party stormwater pipe | M9: Ben Chung | N9: Melanie Mackie
A10: RIC04/226 | B10: Completed | C10: 01/04/2004 | D10: N/A | E10: TBA | F10: NSW South | K10: Allow installation of non-standard private level crossing on the non-operational section of the Main North line at Exmouth | M10: John Stapleton | N10: Phil Campbell 13/04/2012
A11: RIC03/163 | B11: Completed | C11: 01/12/2002 | D11: N/A | E11: TBA | F11: NSW West | K11: Allow installation of non-standard level crossing on the non-operational section of the Barraba line | M11: John Stapleton | N11: Mike van de Worp 1/02/2012
A12: TAS99/20 | B12: Completed | C12: 29/11/1999 | D12: N/A | E12: TBA | F12: NSW South | K12: Allow two (2) new level crossings Henty to Rand | M12: John Stapleton | N12: Mike van de Worp 1/02/2012
A13: 200/BS/290705/001 | B13: Closed | C13: 13/10/2005 | D13: 12/10/2030 | E13: TBA | F13: Hunter Valley | H13: ETA-02-01, TPS03 | K13: Allow use of ACQ Treated Bridge Transoms at Oakhampton 119.17 km (319 transoms) and 199.45 km (145 transoms) | L13: Robert Taylor | M13: 14/10/2005 | N13: Phil Campbell 13/04/2012
A14: 200/BS/160905/002 | B14: Not Required
A15: 200/BS/160905/003 | B15: Not Required
A16: 200/BS/110805/004 | B16: Closed | C16: 01/10/2006 | D16: 31/12/2006 | E16: 01/02/2007 | F16: Hunter Valley | H16: BDS12 | K16: Require to place a demarcation fence from Bypass Tracks to Flyover construction area. Fence 1.8m high continuous and 2.5 from main track centreline. Waiver required from BDS 12. | L16: Mike Parsons | M16: 20/01/2008 | N16: Mike Parsons
A17: 700/BS/1711005/005 | B17: Not Required
A18: 200/BS/181105/006 | B18: Closed | C18: 18/11/2005 | D18: 30/06/2011 | E18: TBA | F18: All NSW | H18: BDS04 | K18: Walkways do not comply to ITSRR and BDS04 requirements. | L18: Robert Taylor | M18: 25/11/2005 | N18: Phil Campbell 13/04/2012
A19: 400/BS/010106/007 | B19: Closed | C19: 01/01/2006 | D19: 01/01/2010 | E19: 09/03/2010 | F19: NSW North Coast | H19: BDS14, BDS15 | K19: Manning River Bridge, Mt George, Taree - design infringement (BDS 14 & BDS 15). Allow installation of 180mm transoms & 60kg rail to a clearance of 68mm wihtin kinematic envelope. | L19: John Ogilvy | M19: 19/12/2005 | N19: John Ogilvy
A20: 200/BS/010306/008 | B20: Closed | C20: 01/03/2006 | D20: 30/04/2006 | E20: 10/04/2006 | F20: Hunter Valley | H20: TMS11 | K20: Allow 30 day past lattitude for Steel Bridge Inspection (Hunter Valley 170.400 - 292.391km) | L20: Robert Taylor | M20: 30/01/2006 | N20: Renewal
A21: 200/BS/010306/008(a) | B21: Closed | C21: 11/04/2006 | D21: 28/05/2006 | E21: 28/09/2006 | F21: Hunter Valley | H21: TMS11 | K21: Extend Steel Bridge Inspections latitude to 28 May 2006. 05-06 cycle only. (Kooragang Hunter River 170.400km and Iron Bark Creek Mains 172.320km) | L21: Robert Taylor | M21: 24/04/2006 | N21: Robert Taylor
A22: 700/BS/230306/009 | B22: Not Required | N22: Anthony Godfrey
A23: 400/BS/130406/010 | B23: Completed | C23: 10/01/2007 | D23: N/A | E23: N/A | F23: NSW North West | H23: BEP01 | K23: Span 43 on the Tamworth Viaduct is a Broad Flanged Beam over a roadway which requires a monthly inspection by the Bridge Examiner per BEP 01. This waiver is to extend the inspection cycle time from monthly to yearly to coincide with the detailed inspection of the wrought iron span over the Peel River. | L23: Paul Wallace | M23: 25/05/2006 | N23: Mike van de Worp 1/02/2012
A24: 200/BS/190506/011 | B24: Completed | C24: 26/05/2006 | D24: N/A - Permanent | E24: 45987 | F24: Hunter Valley | H24: BDS11 | J24: Structures | K24: Muswellbrook - Ulan Line - 327.079km - to allow infringement of the 200mm safety clearance between the Kinetic Envelope (BDS 11) and the bridge structure by 65mm leaving a safety clearance of 135mm. This will negate the need to notch bridge transoms and allow transoms (170mm thick) to suit 30TAL operations. | L24: Jason Walsh | M24: 22/05/2006 | N24: Melanie Mackie
